BEGIN:VCALENDAR
VERSION:2.0
PRODID:-//Northwinds Peninsula - ECPv6.15.20//NONSGML v1.0//EN
CALSCALE:GREGORIAN
METHOD:PUBLISH
X-WR-CALNAME:Northwinds Peninsula
X-ORIGINAL-URL:https://northwindspeninsulaclub.com
X-WR-CALDESC:Events for Northwinds Peninsula
REFRESH-INTERVAL;VALUE=DURATION:PT1H
X-Robots-Tag:noindex
X-PUBLISHED-TTL:PT1H
BEGIN:VTIMEZONE
TZID:America/Toronto
BEGIN:DAYLIGHT
TZOFFSETFROM:-0500
TZOFFSETTO:-0400
TZNAME:EDT
DTSTART:20180311T070000
END:DAYLIGHT
BEGIN:STANDARD
TZOFFSETFROM:-0400
TZOFFSETTO:-0500
TZNAME:EST
DTSTART:20181104T060000
END:STANDARD
BEGIN:DAYLIGHT
TZOFFSETFROM:-0500
TZOFFSETTO:-0400
TZNAME:EDT
DTSTART:20190310T070000
END:DAYLIGHT
BEGIN:STANDARD
TZOFFSETFROM:-0400
TZOFFSETTO:-0500
TZNAME:EST
DTSTART:20191103T060000
END:STANDARD
BEGIN:DAYLIGHT
TZOFFSETFROM:-0500
TZOFFSETTO:-0400
TZNAME:EDT
DTSTART:20200308T070000
END:DAYLIGHT
BEGIN:STANDARD
TZOFFSETFROM:-0400
TZOFFSETTO:-0500
TZNAME:EST
DTSTART:20201101T060000
END:STANDARD
BEGIN:DAYLIGHT
TZOFFSETFROM:-0500
TZOFFSETTO:-0400
TZNAME:EDT
DTSTART:20210314T070000
END:DAYLIGHT
BEGIN:STANDARD
TZOFFSETFROM:-0400
TZOFFSETTO:-0500
TZNAME:EST
DTSTART:20211107T060000
END:STANDARD
BEGIN:DAYLIGHT
TZOFFSETFROM:-0500
TZOFFSETTO:-0400
TZNAME:EDT
DTSTART:20220313T070000
END:DAYLIGHT
BEGIN:STANDARD
TZOFFSETFROM:-0400
TZOFFSETTO:-0500
TZNAME:EST
DTSTART:20221106T060000
END:STANDARD
END:VTIMEZONE
BEGIN:VEVENT
DTSTART;VALUE=DATE:20210818
DTEND;VALUE=DATE:20210819
DTSTAMP:20260419T215550
CREATED:20210426T152915Z
LAST-MODIFIED:20210426T152915Z
UID:5304-1629244800-1629331199@northwindspeninsulaclub.com
SUMMARY:Oakbrook Exchange Day
DESCRIPTION:Peninsula Club members can play Oakbrook for the exchange rate of 20.00
URL:https://northwindspeninsulaclub.com/event/oakbrook-exchange-day-2/
LOCATION:Oakbrook Golf Course
END:VEVENT
BEGIN:VEVENT
DTSTART;VALUE=DATE:20210809
DTEND;VALUE=DATE:20210810
DTSTAMP:20260419T215550
CREATED:20210426T152810Z
LAST-MODIFIED:20210426T152810Z
UID:5301-1628467200-1628553599@northwindspeninsulaclub.com
SUMMARY:Windber Country Club Exchange Day
DESCRIPTION:Peninsula Club members can golf Windber Country Club for the exchange rate of $30.00
URL:https://northwindspeninsulaclub.com/event/windber-country-club-exchange-day-2/
LOCATION:Windber Country Club
END:VEVENT
BEGIN:VEVENT
DTSTART;VALUE=DATE:20210804
DTEND;VALUE=DATE:20210805
DTSTAMP:20260419T215550
CREATED:20210426T151948Z
LAST-MODIFIED:20210426T151948Z
UID:5295-1628035200-1628121599@northwindspeninsulaclub.com
SUMMARY:Fore Sisters Exchange Day
DESCRIPTION:Peninsula Club members can play Fore Sister for the exchange rate of $20.00
URL:https://northwindspeninsulaclub.com/event/fore-sisters-exchange-day/
LOCATION:Fore Sisters
END:VEVENT
BEGIN:VEVENT
DTSTART;VALUE=DATE:20210721
DTEND;VALUE=DATE:20210722
DTSTAMP:20260419T215550
CREATED:20210426T151725Z
LAST-MODIFIED:20210426T151725Z
UID:5292-1626825600-1626911999@northwindspeninsulaclub.com
SUMMARY:Iron Masters Exchange Day
DESCRIPTION:Peninsula Club members can play Iron Masters for the exchange rate of $25.00.
URL:https://northwindspeninsulaclub.com/event/iron-masters-exchange-day-2/
LOCATION:Iron Masters
END:VEVENT
BEGIN:VEVENT
DTSTART;VALUE=DATE:20210716
DTEND;VALUE=DATE:20210717
DTSTAMP:20260419T215550
CREATED:20210404T144328Z
LAST-MODIFIED:20210404T144328Z
UID:5242-1626393600-1626479999@northwindspeninsulaclub.com
SUMMARY:SCI Laurel Highlands Double Course Golf Outing
DESCRIPTION:Northwinds Golf Club and the Peninsula Golf Club will be hosting the SCI Laurel Highlands Golf Outing.  This is a full course shotgun at 9:00.  Call for details.
URL:https://northwindspeninsulaclub.com/event/sci-laurel-highlands-double-course-golf-outing/
END:VEVENT
BEGIN:VEVENT
DTSTART;VALUE=DATE:20210714
DTEND;VALUE=DATE:20210715
DTSTAMP:20260419T215550
CREATED:20210426T151506Z
LAST-MODIFIED:20210426T151506Z
UID:5288-1626220800-1626307199@northwindspeninsulaclub.com
SUMMARY:Rocky Gap Exchange Day
DESCRIPTION:Peninsula Club members can play Rocky Gap for the exchange rate of $25.00
URL:https://northwindspeninsulaclub.com/event/rocky-gap-exchange-day/
LOCATION:Rocky Gap
END:VEVENT
BEGIN:VEVENT
DTSTART;VALUE=DATE:20210707
DTEND;VALUE=DATE:20210708
DTSTAMP:20260419T215550
CREATED:20210426T151223Z
LAST-MODIFIED:20210426T151223Z
UID:5284-1625616000-1625702399@northwindspeninsulaclub.com
SUMMARY:King Valley Exchange Day
DESCRIPTION:Peninsula Club members can play King Valley for the exchange rate of $20.00
URL:https://northwindspeninsulaclub.com/event/king-valley-exchange-day/
LOCATION:King Valley
END:VEVENT
BEGIN:VEVENT
DTSTART;VALUE=DATE:20210623
DTEND;VALUE=DATE:20210624
DTSTAMP:20260419T215550
CREATED:20210424T172820Z
LAST-MODIFIED:20210424T172820Z
UID:5276-1624406400-1624492799@northwindspeninsulaclub.com
SUMMARY:Donegal Highlands Exchange Day
DESCRIPTION:Northwinds Peninsula Golf Club members can play Donegal Highlands for the exchange rate of $25.00
URL:https://northwindspeninsulaclub.com/event/donegal-highlands-exchange-day/
LOCATION:Donegal Highlands
END:VEVENT
BEGIN:VEVENT
DTSTART;VALUE=DATE:20210616
DTEND;VALUE=DATE:20210617
DTSTAMP:20260419T215550
CREATED:20210424T173017Z
LAST-MODIFIED:20210424T173017Z
UID:5280-1623801600-1623887999@northwindspeninsulaclub.com
SUMMARY:King's Mt. Exchange Day
DESCRIPTION:Northwinds Peninsula Golf Club members can play King’s Mt. for the exchange rate of $20.00
URL:https://northwindspeninsulaclub.com/event/kings-mt-exchange-day/
LOCATION:King’s Mt.
END:VEVENT
BEGIN:VEVENT
DTSTART;TZID=America/Toronto:20210613T130000
DTEND;TZID=America/Toronto:20210613T170000
DTSTAMP:20260419T215550
CREATED:20210404T143219Z
LAST-MODIFIED:20210404T143219Z
UID:5236-1623589200-1623603600@northwindspeninsulaclub.com
SUMMARY:Windber Legion
DESCRIPTION:The Windber Legion is having its third outing this golf season! \nShotgun start on the front nine at 1:00 pm. \nGood luck players. \nAll interested players must be signed up before the event\, sign up sheet is located at the Windber Legion deadline to play is one week before event date. \nTee times available throughout the day\, please contact the pro shop for further details.
URL:https://northwindspeninsulaclub.com/event/windber-legion/
END:VEVENT
BEGIN:VEVENT
DTSTART;VALUE=DATE:20210607
DTEND;VALUE=DATE:20210608
DTSTAMP:20260419T215550
CREATED:20210424T172641Z
LAST-MODIFIED:20210424T172641Z
UID:5272-1623024000-1623110399@northwindspeninsulaclub.com
SUMMARY:Pleasant Valley Country Club
DESCRIPTION:Northwinds Peninsula Golf Club members can play Pleasant Valley Country Club for the exchange rate of $25.00
URL:https://northwindspeninsulaclub.com/event/pleasant-valley-country-club/
LOCATION:Pleasant Valley Country Club
END:VEVENT
BEGIN:VEVENT
DTSTART;VALUE=DATE:20210607
DTEND;VALUE=DATE:20210608
DTSTAMP:20260419T215550
CREATED:20210404T144055Z
LAST-MODIFIED:20210424T172003Z
UID:5239-1623024000-1623110399@northwindspeninsulaclub.com
SUMMARY:Summit Exchange Day
DESCRIPTION:Northwinds Peninsula Club members can play Summit for the exchange rate of $25.00.
URL:https://northwindspeninsulaclub.com/event/summit-exchange-day/
LOCATION:Summit Country Club
END:VEVENT
BEGIN:VEVENT
DTSTART;VALUE=DATE:20210602
DTEND;VALUE=DATE:20210603
DTSTAMP:20260419T215550
CREATED:20210424T172432Z
LAST-MODIFIED:20210424T172432Z
UID:5268-1622592000-1622678399@northwindspeninsulaclub.com
SUMMARY:Madison Club Exchange Day
DESCRIPTION:Northwinds Peninsula Golf Club members can play the Madison Club for the exchange rate of $25.00
URL:https://northwindspeninsulaclub.com/event/madison-club-exchange-day/
LOCATION:Madison Club
END:VEVENT
BEGIN:VEVENT
DTSTART;VALUE=DATE:20210526
DTEND;VALUE=DATE:20210527
DTSTAMP:20260419T215550
CREATED:20210424T172254Z
LAST-MODIFIED:20210424T172254Z
UID:5264-1621987200-1622073599@northwindspeninsulaclub.com
SUMMARY:Down River Exchange Day
DESCRIPTION:Northwinds Peninsula Golf Club members can play Down River for the exchange rate of $20.00
URL:https://northwindspeninsulaclub.com/event/down-river-exchange-day/
LOCATION:Down River
END:VEVENT
BEGIN:VEVENT
DTSTART;VALUE=DATE:20210524
DTEND;VALUE=DATE:20210525
DTSTAMP:20260419T215550
CREATED:20210424T171719Z
LAST-MODIFIED:20210424T171719Z
UID:5259-1621814400-1621900799@northwindspeninsulaclub.com
SUMMARY:Champion Lakes Exchange Day
DESCRIPTION:Northwinds Peninsula Golf Club members can play Champion Lakes for the exchange rate of $30.00
URL:https://northwindspeninsulaclub.com/event/champion-lakes-exchange-day-2/
LOCATION:Champion Lakes
END:VEVENT
BEGIN:VEVENT
DTSTART;VALUE=DATE:20210519
DTEND;VALUE=DATE:20210520
DTSTAMP:20260419T215550
CREATED:20210424T171538Z
LAST-MODIFIED:20210424T171538Z
UID:5256-1621382400-1621468799@northwindspeninsulaclub.com
SUMMARY:Iron Masters Exchange Day
DESCRIPTION:Northwinds Peninsula Club members can play Iron Masters for the exchange rate of $25.00
URL:https://northwindspeninsulaclub.com/event/iron-masters-exchange-day/
LOCATION:Iron Masters
END:VEVENT
BEGIN:VEVENT
DTSTART;VALUE=DATE:20210503
DTEND;VALUE=DATE:20210504
DTSTAMP:20260419T215550
CREATED:20210424T171333Z
LAST-MODIFIED:20210424T171333Z
UID:5252-1620000000-1620086399@northwindspeninsulaclub.com
SUMMARY:Windber Country Club Exchange Day
DESCRIPTION:Northwinds Peninsula Golf Club members can play Windber Country Club for the exchange rate of $30.00
URL:https://northwindspeninsulaclub.com/event/windber-country-club-exchange-day/
LOCATION:Windber Country Club
END:VEVENT
BEGIN:VEVENT
DTSTART;TZID=America/Toronto:20210420T170000
DTEND;TZID=America/Toronto:20210420T200000
DTSTAMP:20260419T215550
CREATED:20210420T180235Z
LAST-MODIFIED:20210420T180235Z
UID:5246-1618938000-1618948800@northwindspeninsulaclub.com
SUMMARY:ILGL Ernie Hoffman Memorial Team Scramble
DESCRIPTION:The Peninsula Club will be hosting the ILGL Ernie Hoffman Memorial Team Scramble.  This is a full course shotgun start at 5:00. \nGood Luck Players!
URL:https://northwindspeninsulaclub.com/event/ilgl-ernie-hoffman-memorial-team-scramble/
ATTACH;FMTTYPE=image/jpeg:https://northwindspeninsulaclub.com/wp-content/uploads/2019/05/GLbcrp6g_jpeg.jpg
END:VEVENT
BEGIN:VEVENT
DTSTART;TZID=America/Toronto:20200825T100000
DTEND;TZID=America/Toronto:20200825T150000
DTSTAMP:20260419T215550
CREATED:20200302T150149Z
LAST-MODIFIED:20200302T150222Z
UID:5077-1598349600-1598367600@northwindspeninsulaclub.com
SUMMARY:Grasshopper Golf Outing
DESCRIPTION:Northwinds Peninsula Golf Club will be hosting the Grasshopper Golf Outing at 10:00.  This is scheduled to be a full course event. Starting times will be available after the event.
URL:https://northwindspeninsulaclub.com/event/grasshopper-golf-outing/
END:VEVENT
BEGIN:VEVENT
DTSTART;TZID=America/Toronto:20200815T120000
DTEND;TZID=America/Toronto:20200815T170000
DTSTAMP:20260419T215550
CREATED:20200302T132421Z
LAST-MODIFIED:20200302T132421Z
UID:5074-1597492800-1597510800@northwindspeninsulaclub.com
SUMMARY:Haven Golf Outing
DESCRIPTION:Northwinds Peninsula Golf Club will be hosting the Haven Golf Outing at 12:00. This is scheduled to be a full course event. Morning tee times will be available but limited. All morning rounds must be finished by 11:15.
URL:https://northwindspeninsulaclub.com/event/haven-golf-outing/
END:VEVENT
BEGIN:VEVENT
DTSTART;TZID=America/Toronto:20200814T120000
DTEND;TZID=America/Toronto:20200814T180000
DTSTAMP:20260419T215550
CREATED:20200302T131403Z
LAST-MODIFIED:20200302T131403Z
UID:5071-1597406400-1597428000@northwindspeninsulaclub.com
SUMMARY:Berlin Lumber Golf Outing
DESCRIPTION:Northwinds Peninsula Golf Club will be hosting the Berlin Lumber Golf Outing at 12:00. This is scheduled to be a full course event. Morning tee times will be available but limited. All morning rounds must be finished by 11:15.  Peninsula Club members can play Northwinds Golf Course while event is taking place.
URL:https://northwindspeninsulaclub.com/event/berlin-lumber-golf-outing-2/
END:VEVENT
BEGIN:VEVENT
DTSTART;TZID=America/Toronto:20200712T130000
DTEND;TZID=America/Toronto:20200712T180000
DTSTAMP:20260419T215550
CREATED:20200302T123431Z
LAST-MODIFIED:20200302T123431Z
UID:5068-1594558800-1594576800@northwindspeninsulaclub.com
SUMMARY:Stoystown Fire Department Golf Outing
DESCRIPTION:Northwinds Peninsula Golf Club will be hosting the Stoystown Fire Dept. Golf Outing at 1:00. This is scheduled to be a full course event. Morning tee times will be available but limited. All morning rounds must be finished by 12:30.  Peninsula Club members can play Northwinds Golf Course while event is taking place.
URL:https://northwindspeninsulaclub.com/event/stoystown-fire-department-golf-outing/
END:VEVENT
BEGIN:VEVENT
DTSTART;VALUE=DATE:20200708
DTEND;VALUE=DATE:20200709
DTSTAMP:20260419T215550
CREATED:20200302T122826Z
LAST-MODIFIED:20200302T122826Z
UID:5065-1594166400-1594252799@northwindspeninsulaclub.com
SUMMARY:Windber Country Club
DESCRIPTION:Northwinds Peninsula Golf Club members can play Windber Country Club for $30.00
URL:https://northwindspeninsulaclub.com/event/windber-country-club/
END:VEVENT
BEGIN:VEVENT
DTSTART;VALUE=DATE:20200617
DTEND;VALUE=DATE:20200618
DTSTAMP:20260419T215550
CREATED:20200302T122628Z
LAST-MODIFIED:20200530T000445Z
UID:5062-1592352000-1592438399@northwindspeninsulaclub.com
SUMMARY:Mystic Rock Exchange Day - Cancelled
DESCRIPTION:Northwinds Peninsula Golf Club members can play Mystic Rock for $89.00
URL:https://northwindspeninsulaclub.com/event/mystic-rock-exchange-day/
END:VEVENT
BEGIN:VEVENT
DTSTART;TZID=America/Toronto:20200612T000000
DTEND;TZID=America/Toronto:20200612T000000
DTSTAMP:20260419T215550
CREATED:20200302T121845Z
LAST-MODIFIED:20200302T121845Z
UID:5059-1591920000-1591920000@northwindspeninsulaclub.com
SUMMARY:Ladies TGIF
DESCRIPTION:The Ladies scheduled the TGIF evening.
URL:https://northwindspeninsulaclub.com/event/ladies-tgif/
END:VEVENT
BEGIN:VEVENT
DTSTART;VALUE=DATE:20200513
DTEND;VALUE=DATE:20200514
DTSTAMP:20260419T215550
CREATED:20200302T121641Z
LAST-MODIFIED:20200302T121641Z
UID:5056-1589328000-1589414399@northwindspeninsulaclub.com
SUMMARY:Shepherd's Rock Exchange Day
DESCRIPTION:Northwinds Peninsula Golf Club members can play Shepherd’s Rock for $89.00.
URL:https://northwindspeninsulaclub.com/event/shepherds-rock-exchange-day/
END:VEVENT
BEGIN:VEVENT
DTSTART;TZID=America/Toronto:20190924T100000
DTEND;TZID=America/Toronto:20190924T143000
DTSTAMP:20260419T215550
CREATED:20190916T162519Z
LAST-MODIFIED:20190916T162536Z
UID:4952-1569319200-1569335400@northwindspeninsulaclub.com
SUMMARY:Grasshopper's Golf Outing
DESCRIPTION:The Peninsula Club will be hosting the Grasshopper’s Golf Outing at 10:00 a.m.   This event will be a full course shotgun.
URL:https://northwindspeninsulaclub.com/event/grasshoppers-golf-outing/
END:VEVENT
BEGIN:VEVENT
DTSTART;VALUE=DATE:20190923
DTEND;VALUE=DATE:20190924
DTSTAMP:20260419T215550
CREATED:20190717T181319Z
LAST-MODIFIED:20190717T181319Z
UID:4855-1569196800-1569283199@northwindspeninsulaclub.com
SUMMARY:Nemacolin Shepherd's Rock Exchange Day
DESCRIPTION:Peninsula Club members can play Nemacolin Shepherd’s Rock for only $89.00.  Be sure to call and schedule your starting time.
URL:https://northwindspeninsulaclub.com/event/nemacolin-shepherds-rock-exchange-day/
LOCATION:Nemacolin
END:VEVENT
BEGIN:VEVENT
DTSTART;TZID=America/Toronto:20190921T120000
DTEND;TZID=America/Toronto:20190921T170000
DTSTAMP:20260419T215550
CREATED:20190916T162023Z
LAST-MODIFIED:20190916T162024Z
UID:4946-1569067200-1569085200@northwindspeninsulaclub.com
SUMMARY:Tuesday League Golf Outing
DESCRIPTION:The Indian Lake Golf League will holding its season ending golf outing at 12:00.  This will be a shotgun event.  Limited tee times will be available in the morning.  Please contact our pro shop for additional details.
URL:https://northwindspeninsulaclub.com/event/tuesday-league-golf-outing/
END:VEVENT
BEGIN:VEVENT
DTSTART;VALUE=DATE:20190918
DTEND;VALUE=DATE:20190919
DTSTAMP:20260419T215550
CREATED:20190813T162350Z
LAST-MODIFIED:20190813T162350Z
UID:4877-1568764800-1568851199@northwindspeninsulaclub.com
SUMMARY:Bedford Springs Exchange Day
DESCRIPTION:Peninsula Club members can play Bedford Springs for $69.  Call for tee times.
URL:https://northwindspeninsulaclub.com/event/bedford-springs-exchange-day/
LOCATION:Bedford Springs
END:VEVENT
END:VCALENDAR