BEGIN:VCALENDAR
VERSION:2.0
PRODID:-//Northwinds Peninsula - ECPv6.15.20//NONSGML v1.0//EN
CALSCALE:GREGORIAN
METHOD:PUBLISH
X-WR-CALNAME:Northwinds Peninsula
X-ORIGINAL-URL:https://northwindspeninsulaclub.com
X-WR-CALDESC:Events for Northwinds Peninsula
REFRESH-INTERVAL;VALUE=DURATION:PT1H
X-Robots-Tag:noindex
X-PUBLISHED-TTL:PT1H
BEGIN:VTIMEZONE
TZID:America/Toronto
BEGIN:DAYLIGHT
TZOFFSETFROM:-0500
TZOFFSETTO:-0400
TZNAME:EDT
DTSTART:20180311T070000
END:DAYLIGHT
BEGIN:STANDARD
TZOFFSETFROM:-0400
TZOFFSETTO:-0500
TZNAME:EST
DTSTART:20181104T060000
END:STANDARD
BEGIN:DAYLIGHT
TZOFFSETFROM:-0500
TZOFFSETTO:-0400
TZNAME:EDT
DTSTART:20190310T070000
END:DAYLIGHT
BEGIN:STANDARD
TZOFFSETFROM:-0400
TZOFFSETTO:-0500
TZNAME:EST
DTSTART:20191103T060000
END:STANDARD
BEGIN:DAYLIGHT
TZOFFSETFROM:-0500
TZOFFSETTO:-0400
TZNAME:EDT
DTSTART:20200308T070000
END:DAYLIGHT
BEGIN:STANDARD
TZOFFSETFROM:-0400
TZOFFSETTO:-0500
TZNAME:EST
DTSTART:20201101T060000
END:STANDARD
END:VTIMEZONE
BEGIN:VEVENT
DTSTART;VALUE=DATE:20190916
DTEND;VALUE=DATE:20190917
DTSTAMP:20260420T034026
CREATED:20190717T180951Z
LAST-MODIFIED:20190717T180951Z
UID:4851-1568592000-1568678399@northwindspeninsulaclub.com
SUMMARY:Nemacolin Mystic Rock Exchange Day
DESCRIPTION:Peninsula Club members can play Nemacolin Mystic Rock for only $89.00.  Be sure to call and schedule your starting time.
URL:https://northwindspeninsulaclub.com/event/nemacolin-mystic-rock-exchange-day/
LOCATION:Nemacolin
END:VEVENT
BEGIN:VEVENT
DTSTART;TZID=America/Toronto:20190909T080000
DTEND;TZID=America/Toronto:20190909T170000
DTSTAMP:20260420T034026
CREATED:20190717T181800Z
LAST-MODIFIED:20190717T181800Z
UID:4862-1568016000-1568048400@northwindspeninsulaclub.com
SUMMARY:Rizzo Golf Outing
DESCRIPTION:The Peninsula Club will be hosting the Rizzo Golf Outing.  This is a full course shotgun at 1:00.  Minimal morning tee times will be available until 8:00 am.  Please contact our pro shop for further details.
URL:https://northwindspeninsulaclub.com/event/rizzo-golf-outing/
ATTACH;FMTTYPE=image/jpeg:https://northwindspeninsulaclub.com/wp-content/uploads/2019/05/GLbcrp6g_jpeg.jpg
END:VEVENT
BEGIN:VEVENT
DTSTART;VALUE=DATE:20190828
DTEND;VALUE=DATE:20190829
DTSTAMP:20260420T034026
CREATED:20190717T180742Z
LAST-MODIFIED:20190717T180742Z
UID:4847-1566950400-1567036799@northwindspeninsulaclub.com
SUMMARY:Glengarry Exchange Day
DESCRIPTION:Peninsula Club members can play Glengarry Golf Course for only $20.00.  Be sure to call and schedule your starting time.
URL:https://northwindspeninsulaclub.com/event/glengarry-exchange-day/
LOCATION:Glengarry Golf Course
END:VEVENT
BEGIN:VEVENT
DTSTART;TZID=America/Toronto:20190817T130000
DTEND;TZID=America/Toronto:20190817T183000
DTSTAMP:20260420T034026
CREATED:20190717T173701Z
LAST-MODIFIED:20190717T175245Z
UID:4825-1566046800-1566066600@northwindspeninsulaclub.com
SUMMARY:Josh Seidel Golf Outing
DESCRIPTION:The Peninsula Club will be hosting the Josh Seidel Golf Outing.  This is a full course shotgun at 1:00.  Tee times will be available until 8:00 am and upon completion of the event.  Contact our pro shop for further details.
URL:https://northwindspeninsulaclub.com/event/josh-seidel-golf-outing/
ATTACH;FMTTYPE=image/jpeg:https://northwindspeninsulaclub.com/wp-content/uploads/2019/05/golf-clip.jpg
END:VEVENT
BEGIN:VEVENT
DTSTART;TZID=America/Toronto:20190815T110000
DTEND;TZID=America/Toronto:20190815T160000
DTSTAMP:20260420T034026
CREATED:20190717T175213Z
LAST-MODIFIED:20190717T175322Z
UID:4828-1565866800-1565884800@northwindspeninsulaclub.com
SUMMARY:Cambria Somerset Association of Realtors Golf Outing
DESCRIPTION:The Peninsula Club will be hosting the Cambria Somerset Association of Realtors Golf Outing.  This will be a modified shotgun start at 11:00.  Contact our pro shop for available tee times.
URL:https://northwindspeninsulaclub.com/event/cambria-somerset-association-of-realtors-golf-outing/
ATTACH;FMTTYPE=image/jpeg:https://northwindspeninsulaclub.com/wp-content/uploads/2019/03/IMG_0196mod.jpg
END:VEVENT
BEGIN:VEVENT
DTSTART;VALUE=DATE:20190814
DTEND;VALUE=DATE:20190815
DTSTAMP:20260420T034026
CREATED:20190717T180628Z
LAST-MODIFIED:20190717T180628Z
UID:4843-1565740800-1565827199@northwindspeninsulaclub.com
SUMMARY:Links at Spring Church Exchange Day
DESCRIPTION:Peninsula Club members can play the Links at Spring Church for only $20.00.  Be sure to call and schedule your starting time.
URL:https://northwindspeninsulaclub.com/event/links-at-spring-church-exchange-day/
LOCATION:Links at Spring Church
END:VEVENT
BEGIN:VEVENT
DTSTART;TZID=America/Toronto:20190809T120000
DTEND;TZID=America/Toronto:20190809T190000
DTSTAMP:20260420T034026
CREATED:20190717T172744Z
LAST-MODIFIED:20190717T172744Z
UID:4822-1565352000-1565377200@northwindspeninsulaclub.com
SUMMARY:Berlin Lumber Golf Outing
DESCRIPTION:The Peninsula Club will be hosting the Berlin Lumber Golf Outing.  This is a full course shotgun at 12:00.
URL:https://northwindspeninsulaclub.com/event/berlin-lumber-golf-outing/
ATTACH;FMTTYPE=image/jpeg:https://northwindspeninsulaclub.com/wp-content/uploads/2019/05/GLbcrp6g_jpeg.jpg
END:VEVENT
BEGIN:VEVENT
DTSTART;VALUE=DATE:20190731
DTEND;VALUE=DATE:20190801
DTSTAMP:20260420T034026
CREATED:20190717T180432Z
LAST-MODIFIED:20190717T180452Z
UID:4839-1564531200-1564617599@northwindspeninsulaclub.com
SUMMARY:Oakbrook Exchange Day
DESCRIPTION:Peninsula Club members can play Oakbrook Golf Course for only $20.00.  Be sure to call and schedule your starting time.
URL:https://northwindspeninsulaclub.com/event/oakbrook-exchange-day/
LOCATION:Oakbrook Golf Course
END:VEVENT
BEGIN:VEVENT
DTSTART;VALUE=DATE:20190724
DTEND;VALUE=DATE:20190725
DTSTAMP:20260420T034026
CREATED:20190717T180153Z
LAST-MODIFIED:20190717T180311Z
UID:4834-1563926400-1564012799@northwindspeninsulaclub.com
SUMMARY:Iron Masters Exchange Day
DESCRIPTION:Peninsula Club members can play Iron Masters for only $20.00.  Be sure to call and schedule your starting time.
URL:https://northwindspeninsulaclub.com/event/iron-masters/
LOCATION:Iron Masters
END:VEVENT
BEGIN:VEVENT
DTSTART;VALUE=DATE:20190717
DTEND;VALUE=DATE:20190718
DTSTAMP:20260420T034026
CREATED:20190717T181526Z
LAST-MODIFIED:20190717T181526Z
UID:4858-1563321600-1563407999@northwindspeninsulaclub.com
SUMMARY:Mt. Odin Exchange Day
DESCRIPTION:Peninsula Club members can play Mt. Odin for only $16.00.  Be sure to call and schedule your starting time.
URL:https://northwindspeninsulaclub.com/event/mt-odin-exchange-day/
LOCATION:Mt. Odin Golf Course
END:VEVENT
BEGIN:VEVENT
DTSTART;VALUE=DATE:20190529
DTEND;VALUE=DATE:20190530
DTSTAMP:20260420T034026
CREATED:20190421T150049Z
LAST-MODIFIED:20190421T150049Z
UID:4756-1559088000-1559174399@northwindspeninsulaclub.com
SUMMARY:Latrobe Elks Exchange Day
DESCRIPTION:Peninsula Club members can play Latrobe Elks for only $25.00
URL:https://northwindspeninsulaclub.com/event/latrobe-elks-exchange-day/
LOCATION:Latrobe Elks
END:VEVENT
BEGIN:VEVENT
DTSTART;VALUE=DATE:20190522
DTEND;VALUE=DATE:20190523
DTSTAMP:20260420T034027
CREATED:20190421T142948Z
LAST-MODIFIED:20190421T143014Z
UID:4748-1558483200-1558569599@northwindspeninsulaclub.com
SUMMARY:Chestnut Ridge/Tom's Run Exchange Day
DESCRIPTION:Peninsula Club members can play Chestnut Ridge for $20.00 or Tom’s Run for $28.
URL:https://northwindspeninsulaclub.com/event/chestnut-ridge-toms-run-exchange-day/
LOCATION:Chestnut Ridge
END:VEVENT
BEGIN:VEVENT
DTSTART;VALUE=DATE:20190501
DTEND;VALUE=DATE:20190502
DTSTAMP:20260420T034027
CREATED:20190421T142804Z
LAST-MODIFIED:20190421T142804Z
UID:4744-1556668800-1556755199@northwindspeninsulaclub.com
SUMMARY:Champion Lakes Exchange Day
DESCRIPTION:Peninsula Club members can play Champion Lake for only $24.00
URL:https://northwindspeninsulaclub.com/event/champion-lakes-exchange-day/
LOCATION:Champion Lakes
END:VEVENT
BEGIN:VEVENT
DTSTART;TZID=America/Toronto:20190423T170000
DTEND;TZID=America/Toronto:20190423T200000
DTSTAMP:20260420T034027
CREATED:20190421T142557Z
LAST-MODIFIED:20190421T142557Z
UID:4741-1556038800-1556049600@northwindspeninsulaclub.com
SUMMARY:Tuesday Night League
DESCRIPTION:The Tuesday Night League will shotgun at 5:00 for the annual ILGL Ernie Hoffman Memorial Team Scramble.
URL:https://northwindspeninsulaclub.com/event/tuesday-night-league/
END:VEVENT
END:VCALENDAR