BEGIN:VCALENDAR
VERSION:2.0
PRODID:-//Northwinds Peninsula - ECPv6.15.20//NONSGML v1.0//EN
CALSCALE:GREGORIAN
METHOD:PUBLISH
X-WR-CALNAME:Northwinds Peninsula
X-ORIGINAL-URL:https://northwindspeninsulaclub.com
X-WR-CALDESC:Events for Northwinds Peninsula
REFRESH-INTERVAL;VALUE=DURATION:PT1H
X-Robots-Tag:noindex
X-PUBLISHED-TTL:PT1H
BEGIN:VTIMEZONE
TZID:America/Toronto
BEGIN:DAYLIGHT
TZOFFSETFROM:-0500
TZOFFSETTO:-0400
TZNAME:EDT
DTSTART:20180311T070000
END:DAYLIGHT
BEGIN:STANDARD
TZOFFSETFROM:-0400
TZOFFSETTO:-0500
TZNAME:EST
DTSTART:20181104T060000
END:STANDARD
BEGIN:DAYLIGHT
TZOFFSETFROM:-0500
TZOFFSETTO:-0400
TZNAME:EDT
DTSTART:20190310T070000
END:DAYLIGHT
BEGIN:STANDARD
TZOFFSETFROM:-0400
TZOFFSETTO:-0500
TZNAME:EST
DTSTART:20191103T060000
END:STANDARD
BEGIN:DAYLIGHT
TZOFFSETFROM:-0500
TZOFFSETTO:-0400
TZNAME:EDT
DTSTART:20200308T070000
END:DAYLIGHT
BEGIN:STANDARD
TZOFFSETFROM:-0400
TZOFFSETTO:-0500
TZNAME:EST
DTSTART:20201101T060000
END:STANDARD
END:VTIMEZONE
BEGIN:VEVENT
DTSTART;VALUE=DATE:20190529
DTEND;VALUE=DATE:20190530
DTSTAMP:20260420T034346
CREATED:20190421T150049Z
LAST-MODIFIED:20190421T150049Z
UID:4756-1559088000-1559174399@northwindspeninsulaclub.com
SUMMARY:Latrobe Elks Exchange Day
DESCRIPTION:Peninsula Club members can play Latrobe Elks for only $25.00
URL:https://northwindspeninsulaclub.com/event/latrobe-elks-exchange-day/
LOCATION:Latrobe Elks
END:VEVENT
BEGIN:VEVENT
DTSTART;VALUE=DATE:20190522
DTEND;VALUE=DATE:20190523
DTSTAMP:20260420T034346
CREATED:20190421T142948Z
LAST-MODIFIED:20190421T143014Z
UID:4748-1558483200-1558569599@northwindspeninsulaclub.com
SUMMARY:Chestnut Ridge/Tom's Run Exchange Day
DESCRIPTION:Peninsula Club members can play Chestnut Ridge for $20.00 or Tom’s Run for $28.
URL:https://northwindspeninsulaclub.com/event/chestnut-ridge-toms-run-exchange-day/
LOCATION:Chestnut Ridge
END:VEVENT
BEGIN:VEVENT
DTSTART;VALUE=DATE:20190501
DTEND;VALUE=DATE:20190502
DTSTAMP:20260420T034346
CREATED:20190421T142804Z
LAST-MODIFIED:20190421T142804Z
UID:4744-1556668800-1556755199@northwindspeninsulaclub.com
SUMMARY:Champion Lakes Exchange Day
DESCRIPTION:Peninsula Club members can play Champion Lake for only $24.00
URL:https://northwindspeninsulaclub.com/event/champion-lakes-exchange-day/
LOCATION:Champion Lakes
END:VEVENT
BEGIN:VEVENT
DTSTART;TZID=America/Toronto:20190423T170000
DTEND;TZID=America/Toronto:20190423T200000
DTSTAMP:20260420T034346
CREATED:20190421T142557Z
LAST-MODIFIED:20190421T142557Z
UID:4741-1556038800-1556049600@northwindspeninsulaclub.com
SUMMARY:Tuesday Night League
DESCRIPTION:The Tuesday Night League will shotgun at 5:00 for the annual ILGL Ernie Hoffman Memorial Team Scramble.
URL:https://northwindspeninsulaclub.com/event/tuesday-night-league/
END:VEVENT
END:VCALENDAR