BEGIN:VCALENDAR
VERSION:2.0
PRODID:-//Northwinds Peninsula - ECPv6.15.20//NONSGML v1.0//EN
CALSCALE:GREGORIAN
METHOD:PUBLISH
X-ORIGINAL-URL:https://northwindspeninsulaclub.com
X-WR-CALDESC:Events for Northwinds Peninsula
REFRESH-INTERVAL;VALUE=DURATION:PT1H
X-Robots-Tag:noindex
X-PUBLISHED-TTL:PT1H
BEGIN:VTIMEZONE
TZID:America/Toronto
BEGIN:DAYLIGHT
TZOFFSETFROM:-0500
TZOFFSETTO:-0400
TZNAME:EDT
DTSTART:20250309T070000
END:DAYLIGHT
BEGIN:STANDARD
TZOFFSETFROM:-0400
TZOFFSETTO:-0500
TZNAME:EST
DTSTART:20251102T060000
END:STANDARD
BEGIN:DAYLIGHT
TZOFFSETFROM:-0500
TZOFFSETTO:-0400
TZNAME:EDT
DTSTART:20260308T070000
END:DAYLIGHT
BEGIN:STANDARD
TZOFFSETFROM:-0400
TZOFFSETTO:-0500
TZNAME:EST
DTSTART:20261101T060000
END:STANDARD
BEGIN:DAYLIGHT
TZOFFSETFROM:-0500
TZOFFSETTO:-0400
TZNAME:EDT
DTSTART:20270314T070000
END:DAYLIGHT
BEGIN:STANDARD
TZOFFSETFROM:-0400
TZOFFSETTO:-0500
TZNAME:EST
DTSTART:20271107T060000
END:STANDARD
END:VTIMEZONE
BEGIN:VEVENT
DTSTART;VALUE=DATE:20260814
DTEND;VALUE=DATE:20260815
DTSTAMP:20260419T171009
CREATED:20260311T171228Z
LAST-MODIFIED:20260311T171228Z
UID:6219-1786665600-1786751999@northwindspeninsulaclub.com
SUMMARY:Summit CC Exchange Day
DESCRIPTION:Summit CC Exchange Day – Friday August 14\, 2026 \nNorthwinds Peninsula Club members can play Summit CC on Friday August 14\, 2026.  Fee $35.  Please be sure to call Summit CC to schedule a tee time.
URL:https://northwindspeninsulaclub.com/event/summit-cc-exchange-day-2/
END:VEVENT
BEGIN:VEVENT
DTSTART;TZID=America/Toronto:20260814T090000
DTEND;TZID=America/Toronto:20260814T140000
DTSTAMP:20260419T171009
CREATED:20260305T201737Z
LAST-MODIFIED:20260305T201737Z
UID:6153-1786698000-1786716000@northwindspeninsulaclub.com
SUMMARY:SCI Somerset Golf Outing
DESCRIPTION:SCI Somerset Golf Outing – Friday August 14\, 2026 \nNorthwinds Peninsula Club will be hosting the SCI Somerset Golf Outing.  The event will be a full course shotgun starting at 9:00 am.  Tee times will be available upon completion of the event.
URL:https://northwindspeninsulaclub.com/event/sci-somerset-golf-outing/
END:VEVENT
BEGIN:VEVENT
DTSTART;TZID=America/Toronto:20260816T130000
DTEND;TZID=America/Toronto:20260816T173000
DTSTAMP:20260419T171009
CREATED:20260305T202019Z
LAST-MODIFIED:20260305T202019Z
UID:6156-1786885200-1786901400@northwindspeninsulaclub.com
SUMMARY:Stoystown Auto ALS Golf Outing
DESCRIPTION:Stoystown Auto ALS Golf Outing – Sunday August 16\, 2026 \nNorthwinds Peninsula Club will be hosting the Stoystown Auto ALS Golf Outing.  The event will be a full course shotgun starting at 1:00 pm.  Tee times will be limited in the morning and will also be available upon completion of the event.
URL:https://northwindspeninsulaclub.com/event/stoystown-auto-als-golf-outing/
END:VEVENT
BEGIN:VEVENT
DTSTART;VALUE=DATE:20260817
DTEND;VALUE=DATE:20260818
DTSTAMP:20260419T171009
CREATED:20260305T202235Z
LAST-MODIFIED:20260305T202235Z
UID:6159-1786924800-1787011199@northwindspeninsulaclub.com
SUMMARY:Immegrun GC Exchange Day
DESCRIPTION:Immegrun GC Exchange Day – Monday August 17\, 2026 \nNorthwinds Peninsula Club members can play Immegrun GC on Monday August 17\, 2026.  Fee $30.  Please be sure to call Immegrun GC to schedule a tee time.
URL:https://northwindspeninsulaclub.com/event/immegrun-gc-exchange-day-2/
END:VEVENT
BEGIN:VEVENT
DTSTART;VALUE=DATE:20260819
DTEND;VALUE=DATE:20260820
DTSTAMP:20260419T171009
CREATED:20260305T202425Z
LAST-MODIFIED:20260305T202425Z
UID:6162-1787097600-1787183999@northwindspeninsulaclub.com
SUMMARY:Norvelt Exchange Day
DESCRIPTION:Norvelt Exchange Day – Wednesday August 19\, 2026 \nNorthwinds Peninsula Club members can play Norvelt on Wednesday August 19\, 2026.  Fee $35.  Please be sure to call Norvelt to schedule a tee time.
URL:https://northwindspeninsulaclub.com/event/norvelt-exchange-day/
END:VEVENT
BEGIN:VEVENT
DTSTART;TZID=America/Toronto:20260823T080000
DTEND;TZID=America/Toronto:20260823T120000
DTSTAMP:20260419T171009
CREATED:20260305T202815Z
LAST-MODIFIED:20260305T202815Z
UID:6165-1787472000-1787486400@northwindspeninsulaclub.com
SUMMARY:2026 Club Championship
DESCRIPTION:2026 Club Championship – Sunday August 23\, 2026 \nNorthwinds Peninsula Club will host the 2nd Day of the Club Championship on Sunday August 23\, 2026 starting at 8am. This is a tee time event. The first day will be hosted by Northwinds. Sign up sheets will be posted at both pro shops. Tee times will be available for the afternoon.
URL:https://northwindspeninsulaclub.com/event/2026-club-championship/
END:VEVENT
BEGIN:VEVENT
DTSTART;VALUE=DATE:20260909
DTEND;VALUE=DATE:20260910
DTSTAMP:20260419T171009
CREATED:20260311T162844Z
LAST-MODIFIED:20260311T162844Z
UID:6207-1788912000-1788998399@northwindspeninsulaclub.com
SUMMARY:Windber CC Exchange Day
DESCRIPTION:Windber CC Exchange Day – Wednesday September 9\, 2026 \nNorthwinds Peninsula Club members can play Windber CC on Wednesday September 9\, 2026.  Fee $45.  Please be sure to call Windber CC to schedule a tee time.
URL:https://northwindspeninsulaclub.com/event/windber-cc-exchange-day-2/
END:VEVENT
BEGIN:VEVENT
DTSTART;TZID=America/Toronto:20260914T130000
DTEND;TZID=America/Toronto:20260914T173000
DTSTAMP:20260419T171009
CREATED:20260306T133807Z
LAST-MODIFIED:20260306T133807Z
UID:6168-1789390800-1789407000@northwindspeninsulaclub.com
SUMMARY:Rizzo's Golf Outing
DESCRIPTION:Rizzo’s Golf Outing – Monday September 14\, 2026 \nNorthwinds Peninsula Club will be hosting the Rizzo’s Golf Outing.  The event will be a full course shotgun starting at 1:00 pm.  Limited tee times will be available in the morning and will also become available upon completion of the event.
URL:https://northwindspeninsulaclub.com/event/rizzos-golf-outing/
END:VEVENT
BEGIN:VEVENT
DTSTART;VALUE=DATE:20260916
DTEND;VALUE=DATE:20260917
DTSTAMP:20260419T171009
CREATED:20260311T161119Z
LAST-MODIFIED:20260311T161119Z
UID:6199-1789516800-1789603199@northwindspeninsulaclub.com
SUMMARY:King Valley Exchange Day
DESCRIPTION:King Valley Exchange Day – Wednesday September 16\, 2026 \nNorthwinds Peninsula Club members can play King Valley on Wednesday September 16\, 2026.  Fee $35.  Please be sure to call King Valley to schedule a tee time.
URL:https://northwindspeninsulaclub.com/event/king-valley-exchange-day-7/
END:VEVENT
BEGIN:VEVENT
DTSTART;TZID=America/Toronto:20260919T130000
DTEND;TZID=America/Toronto:20260919T180000
DTSTAMP:20260419T171009
CREATED:20260306T134019Z
LAST-MODIFIED:20260306T134019Z
UID:6171-1789822800-1789840800@northwindspeninsulaclub.com
SUMMARY:Push Foreward Golf Outing
DESCRIPTION:Push Foreward Golf Outing – Saturday September 19\, 2026 \nNorthwinds Peninsula Club will be hosting the Push Foreward Golf Outing.  The event will be a full course shotgun starting at 1:00 pm.  Limited tee times will be available in the morning and will also become available upon completion of the event.
URL:https://northwindspeninsulaclub.com/event/push-foreward-golf-outing/
END:VEVENT
BEGIN:VEVENT
DTSTART;TZID=America/Toronto:20260922T100000
DTEND;TZID=America/Toronto:20260922T140000
DTSTAMP:20260419T171009
CREATED:20260306T134236Z
LAST-MODIFIED:20260306T134236Z
UID:6174-1790071200-1790085600@northwindspeninsulaclub.com
SUMMARY:Grasshoppers Group
DESCRIPTION:Grasshoppers Group – Tuesday September 22\, 2026 \nNorthwinds Peninsula Club will be hosting the Grasshoppers Group.  The event will be a full course shotgun starting at 10:00 am.  Tee times will be available upon completion of the event.
URL:https://northwindspeninsulaclub.com/event/grasshoppers-group/
END:VEVENT
BEGIN:VEVENT
DTSTART;VALUE=DATE:20260923
DTEND;VALUE=DATE:20260924
DTSTAMP:20260419T171009
CREATED:20260311T163231Z
LAST-MODIFIED:20260311T163231Z
UID:6210-1790121600-1790207999@northwindspeninsulaclub.com
SUMMARY:Oakbrook Exchange Day
DESCRIPTION:Oakbrook Exchange Day – Wednesday September 23\, 2026 \nNorthwinds Peninsula Club members can play Oakbrook on Wednesday September 23\, 2026.  Fee $25.  Please be sure to call Oakbrook to schedule a tee time.
URL:https://northwindspeninsulaclub.com/event/oakbrook-exchange-day-7/
END:VEVENT
BEGIN:VEVENT
DTSTART;TZID=America/Toronto:20260926T090000
DTEND;TZID=America/Toronto:20260926T140000
DTSTAMP:20260419T171009
CREATED:20260306T134451Z
LAST-MODIFIED:20260306T134451Z
UID:6177-1790413200-1790431200@northwindspeninsulaclub.com
SUMMARY:Ernie Blough Memorial Golf Outing
DESCRIPTION:Ernie Blough Memorial Golf Outing – Saturday September 26\, 2026 \nNorthwinds Peninsula Club will be hosting the Ernie Blough Memorial Golf Outing.  The event will be a full course shotgun starting at 9:00 am.  Tee times will be available upon completion of the event.
URL:https://northwindspeninsulaclub.com/event/ernie-blough-memorial-golf-outing-2/
END:VEVENT
BEGIN:VEVENT
DTSTART;VALUE=DATE:20260928
DTEND;VALUE=DATE:20260929
DTSTAMP:20260419T171009
CREATED:20260311T171418Z
LAST-MODIFIED:20260311T171418Z
UID:6222-1790553600-1790639999@northwindspeninsulaclub.com
SUMMARY:Rocky Gap Exchange Day
DESCRIPTION:Rocky Gap Exchange Day – Monday September 28\, 2026 \nNorthwinds Peninsula Club members can play Rocky Gap on Monday September 28\, 2026.  Fee $35.  Please have a Northwinds Peninsula Club Staff member schedule your tee time.
URL:https://northwindspeninsulaclub.com/event/rocky-gap-exchange-day-6/
END:VEVENT
END:VCALENDAR